Workbook
Name _: DATE(YEAR('10% spread plus 5% lumpsum'!Loan_Start),MONTH('10% spread plus 5% lumpsum'!Loan_Start)+Payment_Number,DAY('10% spread plus 5% lumpsum'!Loan_Start))
Name _: DATE(YEAR('10% step up plus 5% lumpsum'!Loan_Start),MONTH('10% step up plus 5% lumpsum'!Loan_Start)+Payment_Number,DAY('10% step up plus 5% lumpsum'!Loan_Start))
Name _: DATE(YEAR(Loan_Start),MONTH(Loan_Start)+Payment_Number,DAY(Loan_Start))
Name _: DATE(YEAR(Loan_Start),MONTH(Loan_Start)+Payment_Number,DAY(Loan_Start))
Name Ancheta: #N/A
Name Beg_Bal: #REF!
Name Beg_Bal: #REF!
Name Beg_Bal: 'Amort Computation'!$C$25:$C$384
Name Beg_Bal: #REF!
Name Calaca: #N/A
Name Data: 'Amort Computation'!$A$25:$I$384
Name DocTemplates: OFFSET(#REF!,,,COUNTA(#REF!),1)
Name DocTemplates: OFFSET(#REF!,,,COUNTA(#REF!),1)
Name DocTemplates: OFFSET(#REF!,,,COUNTA(#REF!),1)
Name DocTemplates: OFFSET(#REF!,,,COUNTA(#REF!),1)
Name DocTemplates: OFFSET(#REF!,,,COUNTA(#REF!),1)
Name DocTemplates: OFFSET(#REF!,,,COUNTA(#REF!),1)
Name DocTemplates: OFFSET(#REF!,,,COUNTA(#REF!),1)
Name End_Bal: #REF!
Name End_Bal: #REF!
Name End_Bal: 'Amort Computation'!$I$25:$I$384
Name End_Bal: #REF!
Name Extra_Pay: #REF!
Name Extra_Pay: #REF!
Name Extra_Pay: 'Amort Computation'!$E$25:$E$384
Name Extra_Pay: #REF!
Name Full_Print: '[1]Amort Computation'!$A$1:$I$384
Name Full_Print: '[2]Amort Computation'!$A$1:$I$384
Name Full_Print: 'Amort Computation'!$A$1:$I$384
Name Header_Row: ROW(#REF!)
Name Header_Row: ROW(#REF!)
Name Header_Row: ROW('Amort Computation'!$24:$24)
Name Header_Row: ROW(#REF!)
Name Int: #REF!
Name Int: #REF!
Name Int: 'Amort Computation'!$H$25:$H$384
Name Int: #REF!
Name Interest_Rate: #REF!
Name Interest_Rate: #REF!
Name Interest_Rate: 'Amort Computation'!$D$15
Name Interest_Rate: #REF!
Name Last_Row: IF('10% spread plus 5% lumpsum'!Values_Entered,'10% spread plus 5% lumpsum'!Header_Row+'10% spread plus 5% lumpsum'!Number_of_Payments,'10% spread plus 5% lumpsum'!Header_Row)
Name Last_Row: IF('10% step up plus 5% lumpsum'!Values_Entered,'10% step up plus 5% lumpsum'!Header_Row+'10% step up plus 5% lumpsum'!Number_of_Payments,'10% step up plus 5% lumpsum'!Header_Row)
Name Last_Row: IF('Amort Computation'!Values_Entered,'Amort Computation'!Header_Row+'Amort Computation'!Number_of_Payments,'Amort Computation'!Header_Row)
Name Last_Row: IF(RECOVERIES!Values_Entered,Header_Row+RECOVERIES!Number_of_Payments,Header_Row)
Name Last_Row: IF(Values_Entered,Header_Row+Number_of_Payments,Header_Row)
Name Loan_Amount: #REF!
Name Loan_Amount: #REF!
Name Loan_Amount: 'Amort Computation'!$D$14
Name Loan_Amount: #REF!
Name Loan_Start: #REF!
Name Loan_Start: #REF!
Name Loan_Start: 'Amort Computation'!$D$18
Name Loan_Start: #REF!
Name Loan_Years: #REF!
Name Loan_Years: #REF!
Name Loan_Years: 'Amort Computation'!$D$16
Name Loan_Years: #REF!
Name Num_Pmt_Per_Year: #REF!
Name Num_Pmt_Per_Year: #REF!

Sheet Construction Sched 2023
O7: *Internal applied to Equity term plus 2 months buffer
B13: Aug. 2023
B14: Current term | C14: New Term
A15: B1 | B15: 27 | C15: 30
A16: B2 | B16: 32 | C16: 35
A17: B3 | B17: 37 | C17: 40
A21: NEW | B21: as of Sept. 28,2023
B42: NEW
B43: B1 | C43: 45748
B44: B2 | C44: 45931
B45: B3 | C45: 46174

Sheet Amort Computation
H2: ANNEX "A"
A4: ILOILO SOUTHPRIME DEVELOPERS INC. | G4: Date and Time Printed: | I4: =NOW() -> 45902.531
A7: Buyer's Name:
A8: Project Name: | C8: EMERALD ESTATES
A9: Unit No.: | C9: BLOCK LOT | G9: Financing:
B13: Payment Schedule | F13: Outstanding Balance Summary
C14: Loan Amount | D14: ='Corrected and Updated TSF 3'!FB2 -> 3196769.3 | G14: Scheduled Payment | H14: =IF(Values_Entered,-PMT(Interest_Rate/Num_Pmt_Per_Year,Loan_Years*Num_Pmt_Per_Year,Loan_Amount),"") -> 39635.364
C15: Annual Interest Rate | D15: 0.085 | G15: Scheduled Number of Payments
C16: Loan Period in Years | D16: 10 | G16: Actual Number of Payments | H16: =IF(Values_Entered,Number_of_Payments,"") -> 120
C17: Number of Payments Per Year | D17: 12 | G17: Total Early Payments | H17: 0
C18: Start Date of Loan | D18: 45005 | G18: Total Interest | H18: =IF(Values_Entered,SUMIF(Beg_Bal,">0",Int),"") -> 1552879.4 | M18: PROJECTION
C19: Optional Extra Payments | M19: LINK GOING TO LD OR INHS MASTERLIST
L21: MONTH | M21: =INDEX($B$25:$B$135,COLUMN(A1),1) -> 45005 | N21: =INDEX($B$25:$B$135,COLUMN(B1),1) -> 45036 | O21: =INDEX($B$25:$B$135,COLUMN(C1),1) -> 45066 | P21: =INDEX($B$25:$B$135,COLUMN(D1),1) -> 45097 | Q21: =INDEX($B$25:$B$135,COLUMN(E1),1) -> 45127 | R21: =INDEX($B$25:$B$135,COLUMN(F1),1) -> 45158 | S21: =INDEX($B$25:$B$135,COLUMN(G1),1) -> 45189 | T21: =INDEX($B$25:$B$135,COLUMN(H1),1) -> 45219 | ... BT21: =INDEX($B$25:$B$135,COLUMN(BH1),1) -> 46803 | BW21: amount | BX21: prin cipal | BY21: interest | BZ21: balance
A23: PmtNo. | B23: Payment Date | C23: Beginning Balance | D23: Scheduled Payment | E23: Extra Payment | F23: Total Payment | G23: Principal | H23: Interest | I23: Ending Balance | J23: Paid/Credited | L23: TRANCHES | M23: 1 | N23: =M23+1 -> 2 | O23: =N23+1 -> 3 | P23: =O23+1 -> 4 | Q23: =P23+1 -> 5 | R23: =Q23+1 -> 6 | S23: =R23+1 -> 7 | T23: =S23+1 -> 8 | U23: =T23+1 -> 9 | ... BT23: =BS23+1 -> 60 | BZ23: =Loan_Amount -> 3196769.3 | CA23: =PMT(16%/12,60,BZ23) -> -77739.219
A25: =IF(Values_Entered,1,"") -> 1 | B25: =Loan_Start -> 45005 | C25: =IF(Values_Entered,Loan_Amount,"") -> 3196769.3 | D25: =IF(Pay_Num<>"",Scheduled_Monthly_Payment,"") -> 39635.364 | F25: =IF(AND(Pay_Num<>"",Sched_Pay+Extra_Pay<Beg_Bal),Sched_Pay+Extra_Pay,IF(Pay_Num<>"",Beg_Bal,"")) -> 39635.364 | G25: =IF(Pay_Num<>"",Total_Pay-Int,"") -> 16991.582 | H25: =IF(Pay_Num<>"",Beg_Bal*(Interest_Rate/Num_Pmt_Per_Year),"") -> 22643.783 | I25: =IF(AND(Pay_Num<>"",Sched_Pay+Extra_Pay<Beg_Bal),Beg_Bal-Princ,IF(Pay_Num<>"",0,"")) -> 3179777.7 | J25: ='[4]B11-L8'!J32 -> PAID | L25: =G23 -> Principal | M25: =INDEX($G$25:$H$288,COLUMN(A1),1) -> 16991.582 | N25: =INDEX($G$25:$H$288,COLUMN(B1),1) -> 17111.939 | O25: =INDEX($G$25:$H$288,COLUMN(C1),1) -> 17233.148 | P25: =INDEX($G$25:$H$288,COLUMN(D1),1) -> 17355.217 | Q25: =INDEX($G$25:$H$288,COLUMN(E1),1) -> 17478.149 | R25: =INDEX($G$25:$H$288,COLUMN(F1),1) -> 17601.953 | S25: =INDEX($G$25:$H$288,COLUMN(G1),1) -> 17726.633 | T25: =INDEX($G$25:$H$288,COLUMN(H1),1) -> 17852.197 | ... BT25: =INDEX($G$25:$H$288,COLUMN(BH1),1) -> 25768.725 | BW25: 34058 | BX25: =BW25-BY25 -> -8565.5908 | BY25: =BZ23*16%/12 -> 42623.591 | BZ25: =BZ23-BX25 -> 3205334.9
A26: =IF(Values_Entered,A25+1,"") -> 2 | B26: =Loan_Start+31 -> 45036 | C26: =IF(Pay_Num<>"",I25,"") -> 3179777.7 | D26: =IF(Pay_Num<>"",Scheduled_Monthly_Payment,"") -> 39635.364 | F26: =IF(AND(Pay_Num<>"",Sched_Pay+Extra_Pay<Beg_Bal),Sched_Pay+Extra_Pay,IF(Pay_Num<>"",Beg_Bal,"")) -> 39635.364 | G26: =IF(Pay_Num<>"",Total_Pay-Int,"") -> 17111.939 | H26: =IF(Pay_Num<>"",Beg_Bal*Interest_Rate/Num_Pmt_Per_Year,"") -> 22523.426 | I26: =IF(AND(Pay_Num<>"",Sched_Pay+Extra_Pay<Beg_Bal),Beg_Bal-Princ,IF(Pay_Num<>"",0,"")) -> 3162665.8 | J26: ='[4]B11-L8'!J33 -> PAID | L26: =H23 -> Interest | M26: =INDEX($H$25:$H$164,COLUMN(A2),1) -> 22643.783 | N26: =INDEX($H$25:$H$164,COLUMN(B2),1) -> 22523.426 | O26: =INDEX($H$25:$H$164,COLUMN(C2),1) -> 22402.216 | P26: =INDEX($H$25:$H$164,COLUMN(D2),1) -> 22280.148 | Q26: =INDEX($H$25:$H$164,COLUMN(E2),1) -> 22157.215 | R26: =INDEX($H$25:$H$164,COLUMN(F2),1) -> 22033.412 | S26: =INDEX($H$25:$H$164,COLUMN(G2),1) -> 21908.731 | T26: =INDEX($H$25:$H$164,COLUMN(H2),1) -> 21783.167 | ... BT26: =INDEX($H$25:$H$164,COLUMN(BH2),1) -> 13866.64 | BW26: 34058 | BX26: =BW26-BY26 -> -8679.7986 | BY26: =BZ25*16%/12 -> 42737.799 | BZ26: =BZ25-BX26 -> 3214014.7
A27: =IF(Values_Entered,A26+1,"") -> 3 | B27: =B26+30 -> 45066 | C27: =IF(Pay_Num<>"",I26,"") -> 3162665.8 | D27: =IF(Pay_Num<>"",Scheduled_Monthly_Payment,"") -> 39635.364 | F27: =IF(AND(Pay_Num<>"",Sched_Pay+Extra_Pay<Beg_Bal),Sched_Pay+Extra_Pay,IF(Pay_Num<>"",Beg_Bal,"")) -> 39635.364 | G27: =IF(Pay_Num<>"",Total_Pay-Int,"") -> 17233.148 | H27: =IF(Pay_Num<>"",Beg_Bal*Interest_Rate/Num_Pmt_Per_Year,"") -> 22402.216 | I27: =IF(AND(Pay_Num<>"",Sched_Pay+Extra_Pay<Beg_Bal),Beg_Bal-Princ,IF(Pay_Num<>"",0,"")) -> 3145432.6 | J27: ='[4]B11-L8'!J34 -> PAID | L27: TOTAL | M27: =SUM(M25:M26) -> 39635.364 | N27: =SUM(N25:N26) -> 39635.364 | O27: =SUM(O25:O26) -> 39635.364 | P27: =SUM(P25:P26) -> 39635.364 | Q27: =SUM(Q25:Q26) -> 39635.364 | R27: =SUM(R25:R26) -> 39635.364 | S27: =SUM(S25:S26) -> 39635.364 | T27: =SUM(T25:T26) -> 39635.364 | ... BT27: =SUM(BT25:BT26) -> 39635.364 | BW27: 34058 | BX27: =BW27-BY27 -> -8795.5293 | BY27: =BZ26*16%/12 -> 42853.529 | BZ27: =BZ26-BX27 -> 3222810.2
A28: =IF(Values_Entered,A27+1,"") -> 4 | B28: =B27+31 -> 45097 | C28: =IF(Pay_Num<>"",I27,"") -> 3145432.6 | D28: =IF(Pay_Num<>"",Scheduled_Monthly_Payment,"") -> 39635.364 | F28: =IF(AND(Pay_Num<>"",Sched_Pay+Extra_Pay<Beg_Bal),Sched_Pay+Extra_Pay,IF(Pay_Num<>"",Beg_Bal,"")) -> 39635.364 | G28: =IF(Pay_Num<>"",Total_Pay-Int,"") -> 17355.217 | H28: =IF(Pay_Num<>"",Beg_Bal*Interest_Rate/Num_Pmt_Per_Year,"") -> 22280.148 | I28: =IF(AND(Pay_Num<>"",Sched_Pay+Extra_Pay<Beg_Bal),Beg_Bal-Princ,IF(Pay_Num<>"",0,"")) -> 3128077.4 | J28: ='[4]B11-L8'!J35 -> PAID | M28: =J25 -> PAID | N28: =K25 -> 0 | BW28: 34058 | BX28: =BW28-BY28 -> -8912.803 | BY28: =BZ27*16%/12 -> 42970.803 | BZ28: =BZ27-BX28 -> 3231723
A29: =IF(Values_Entered,A28+1,"") -> 5 | B29: =B28+30 -> 45127 | C29: =IF(Pay_Num<>"",I28,"") -> 3128077.4 | D29: =IF(Pay_Num<>"",Scheduled_Monthly_Payment,"") -> 39635.364 | F29: =IF(AND(Pay_Num<>"",Sched_Pay+Extra_Pay<Beg_Bal),Sched_Pay+Extra_Pay,IF(Pay_Num<>"",Beg_Bal,"")) -> 39635.364 | G29: =IF(Pay_Num<>"",Total_Pay-Int,"") -> 17478.149 | H29: =IF(Pay_Num<>"",Beg_Bal*Interest_Rate/Num_Pmt_Per_Year,"") -> 22157.215 | I29: =IF(AND(Pay_Num<>"",Sched_Pay+Extra_Pay<Beg_Bal),Beg_Bal-Princ,IF(Pay_Num<>"",0,"")) -> 3110599.3 | J29: ='[4]B11-L8'!J36 -> PAID | BW29: 34058 | BX29: =BW29-BY29 -> -9031.6404 | BY29: =BZ28*16%/12 -> 43089.64 | BZ29: =BZ28-BX29 -> 3240754.7
A30: =IF(Values_Entered,A29+1,"") -> 6 | B30: =B29+31 -> 45158 | C30: =IF(Pay_Num<>"",I29,"") -> 3110599.3 | D30: =IF(Pay_Num<>"",Scheduled_Monthly_Payment,"") -> 39635.364 | F30: =IF(AND(Pay_Num<>"",Sched_Pay+Extra_Pay<Beg_Bal),Sched_Pay+Extra_Pay,IF(Pay_Num<>"",Beg_Bal,"")) -> 39635.364 | G30: =IF(Pay_Num<>"",Total_Pay-Int,"") -> 17601.953 | H30: =IF(Pay_Num<>"",Beg_Bal*Interest_Rate/Num_Pmt_Per_Year,"") -> 22033.412 | I30: =IF(AND(Pay_Num<>"",Sched_Pay+Extra_Pay<Beg_Bal),Beg_Bal-Princ,IF(Pay_Num<>"",0,"")) -> 3092997.3 | J30: ='[4]B11-L8'!J37 -> PAID | BW30: 34058 | BX30: =BW30-BY30 -> -9152.0623 | BY30: =BZ29*16%/12 -> 43210.062 | BZ30: =BZ29-BX30 -> 3249906.7
A31: =IF(Values_Entered,A30+1,"") -> 7 | B31: =B30+31 -> 45189 | C31: =IF(Pay_Num<>"",I30,"") -> 3092997.3 | D31: =IF(Pay_Num<>"",Scheduled_Monthly_Payment,"") -> 39635.364 | F31: =IF(AND(Pay_Num<>"",Sched_Pay+Extra_Pay<Beg_Bal),Sched_Pay+Extra_Pay,IF(Pay_Num<>"",Beg_Bal,"")) -> 39635.364 | G31: =IF(Pay_Num<>"",Total_Pay-Int,"") -> 17726.633 | H31: =IF(Pay_Num<>"",Beg_Bal*Interest_Rate/Num_Pmt_Per_Year,"") -> 21908.731 | I31: =IF(AND(Pay_Num<>"",Sched_Pay+Extra_Pay<Beg_Bal),Beg_Bal-Princ,IF(Pay_Num<>"",0,"")) -> 3075270.7 | J31: ='[4]B11-L8'!J38 -> PAID | BW31: 34058 | BX31: =BW31-BY31 -> -9274.0898 | BY31: =BZ30*16%/12 -> 43332.09 | BZ31: =BZ30-BX31 -> 3259180.8 | CJ31: Total Interest for 9 months
A32: =IF(Values_Entered,A31+1,"") -> 8 | B32: =B31+30 -> 45219 | C32: =IF(Pay_Num<>"",I31,"") -> 3075270.7 | D32: =IF(Pay_Num<>"",Scheduled_Monthly_Payment,"") -> 39635.364 | F32: =IF(AND(Pay_Num<>"",Sched_Pay+Extra_Pay<Beg_Bal),Sched_Pay+Extra_Pay,IF(Pay_Num<>"",Beg_Bal,"")) -> 39635.364 | G32: =IF(Pay_Num<>"",Total_Pay-Int,"") -> 17852.197 | H32: =IF(Pay_Num<>"",Beg_Bal*Interest_Rate/Num_Pmt_Per_Year,"") -> 21783.167 | I32: =IF(AND(Pay_Num<>"",Sched_Pay+Extra_Pay<Beg_Bal),Beg_Bal-Princ,IF(Pay_Num<>"",0,"")) -> 3057418.5 | J32: ='[4]B11-L8'!J39 -> PAID | BW32: 34058 | BX32: =BW32-BY32 -> -9397.7443 | BY32: =BZ31*16%/12 -> 43455.744 | BZ32: =BZ31-BX32 -> 3268578.6 | CJ32: =SUM(H25:H33) -> 199388.81
A33: =IF(Values_Entered,A32+1,"") -> 9 | B33: =B32+31 -> 45250 | C33: =IF(Pay_Num<>"",I32,"") -> 3057418.5 | D33: =IF(Pay_Num<>"",Scheduled_Monthly_Payment,"") -> 39635.364 | F33: =IF(AND(Pay_Num<>"",Sched_Pay+Extra_Pay<Beg_Bal),Sched_Pay+Extra_Pay,IF(Pay_Num<>"",Beg_Bal,"")) -> 39635.364 | G33: =IF(Pay_Num<>"",Total_Pay-Int,"") -> 17978.65 | H33: =IF(Pay_Num<>"",Beg_Bal*Interest_Rate/Num_Pmt_Per_Year,"") -> 21656.714 | I33: =IF(AND(Pay_Num<>"",Sched_Pay+Extra_Pay<Beg_Bal),Beg_Bal-Princ,IF(Pay_Num<>"",0,"")) -> 3039439.8 | J33: ='[4]B11-L8'!J40 -> PAID | BW33: 34058 | BX33: =BW33-BY33 -> -9523.0475 | BY33: =BZ32*16%/12 -> 43581.048 | BZ33: =BZ32-BX33 -> 3278101.6
A34: =IF(Values_Entered,A33+1,"") -> 10 | B34: =B33+30 -> 45280 | C34: =IF(Pay_Num<>"",I33,"") -> 3039439.8 | D34: =IF(Pay_Num<>"",Scheduled_Monthly_Payment,"") -> 39635.364 | F34: =IF(AND(Pay_Num<>"",Sched_Pay+Extra_Pay<Beg_Bal),Sched_Pay+Extra_Pay,IF(Pay_Num<>"",Beg_Bal,"")) -> 39635.364 | G34: =IF(Pay_Num<>"",Total_Pay-Int,"") -> 18105.999 | H34: =IF(Pay_Num<>"",Beg_Bal*Interest_Rate/Num_Pmt_Per_Year,"") -> 21529.366 | I34: =IF(AND(Pay_Num<>"",Sched_Pay+Extra_Pay<Beg_Bal),Beg_Bal-Princ,IF(Pay_Num<>"",0,"")) -> 3021333.8 | J34: ='[4]B11-L8'!J41 -> PAID | BW34: 34058 | BX34: =BW34-BY34 -> -9650.0215 | BY34: =BZ33*16%/12 -> 43708.022 | BZ34: =BZ33-BX34 -> 3287751.6
A35: =IF(Values_Entered,A34+1,"") -> 11 | B35: =B34+31 -> 45311 | C35: =IF(Pay_Num<>"",I34,"") -> 3021333.8 | D35: =IF(Pay_Num<>"",Scheduled_Monthly_Payment,"") -> 39635.364 | F35: =IF(AND(Pay_Num<>"",Sched_Pay+Extra_Pay<Beg_Bal),Sched_Pay+Extra_Pay,IF(Pay_Num<>"",Beg_Bal,"")) -> 39635.364 | G35: =IF(Pay_Num<>"",Total_Pay-Int,"") -> 18234.25 | H35: =IF(Pay_Num<>"",Beg_Bal*Interest_Rate/Num_Pmt_Per_Year,"") -> 21401.115 | I35: =IF(AND(Pay_Num<>"",Sched_Pay+Extra_Pay<Beg_Bal),Beg_Bal-Princ,IF(Pay_Num<>"",0,"")) -> 3003099.6 | J35: ='[4]B11-L8'!J42 -> PAID | L35: TOTAL AMOUNT | BW35: 34058 | BX35: =BW35-BY35 -> -9778.6885 | BY35: =BZ34*16%/12 -> 43836.688 | BZ35: =BZ34-BX35 -> 3297530.3
A36: =IF(Values_Entered,A35+1,"") -> 12 | B36: =B35+31 -> 45342 | C36: =IF(Pay_Num<>"",I35,"") -> 3003099.6 | D36: =IF(Pay_Num<>"",Scheduled_Monthly_Payment,"") -> 39635.364 | F36: =IF(AND(Pay_Num<>"",Sched_Pay+Extra_Pay<Beg_Bal),Sched_Pay+Extra_Pay,IF(Pay_Num<>"",Beg_Bal,"")) -> 39635.364 | G36: =IF(Pay_Num<>"",Total_Pay-Int,"") -> 18363.409 | H36: =IF(Pay_Num<>"",Beg_Bal*Interest_Rate/Num_Pmt_Per_Year,"") -> 21271.955 | I36: =IF(AND(Pay_Num<>"",Sched_Pay+Extra_Pay<Beg_Bal),Beg_Bal-Princ,IF(Pay_Num<>"",0,"")) -> 2984736.2 | J36: ='[4]B11-L8'!J43 -> PAID | L36: =SUM(F25:F84) -> 2378121.9 | BW36: 34058 | BX36: =BW36-BY36 -> -9909.071 | BY36: =BZ35*16%/12 -> 43967.071 | BZ36: =BZ35-BX36 -> 3307439.4
A37: =IF(Values_Entered,A36+1,"") -> 13 | B37: =B36+29 -> 45371 | C37: =IF(Pay_Num<>"",I36,"") -> 2984736.2 | D37: =IF(Pay_Num<>"",Scheduled_Monthly_Payment,"") -> 39635.364 | F37: =IF(AND(Pay_Num<>"",Sched_Pay+Extra_Pay<Beg_Bal),Sched_Pay+Extra_Pay,IF(Pay_Num<>"",Beg_Bal,"")) -> 39635.364 | G37: =IF(Pay_Num<>"",Total_Pay-Int,"") -> 18493.483 | H37: =IF(Pay_Num<>"",Beg_Bal*Interest_Rate/Num_Pmt_Per_Year,"") -> 21141.881 | I37: =IF(AND(Pay_Num<>"",Sched_Pay+Extra_Pay<Beg_Bal),Beg_Bal-Princ,IF(Pay_Num<>"",0,"")) -> 2966242.7 | J37: ='[4]B11-L8'!J44 -> PAID | BW37: 34058 | BX37: =BW37-BY37 -> -10041.192 | BY37: =BZ36*16%/12 -> 44099.192 | BZ37: =BZ36-BX37 -> 3317480.6
A38: =IF(Values_Entered,A37+1,"") -> 14 | B38: =B37+31 -> 45402 | C38: =IF(Pay_Num<>"",I37,"") -> 2966242.7 | D38: =IF(Pay_Num<>"",Scheduled_Monthly_Payment,"") -> 39635.364 | F38: =IF(AND(Pay_Num<>"",Sched_Pay+Extra_Pay<Beg_Bal),Sched_Pay+Extra_Pay,IF(Pay_Num<>"",Beg_Bal,"")) -> 39635.364 | G38: =IF(Pay_Num<>"",Total_Pay-Int,"") -> 18624.479 | H38: =IF(Pay_Num<>"",Beg_Bal*Interest_Rate/Num_Pmt_Per_Year,"") -> 21010.886 | I38: =IF(AND(Pay_Num<>"",Sched_Pay+Extra_Pay<Beg_Bal),Beg_Bal-Princ,IF(Pay_Num<>"",0,"")) -> 2947618.2 | J38: ='[4]B11-L8'!J45 -> PAID | BW38: 34058 | BX38: =BW38-BY38 -> -10175.074 | BY38: =BZ37*16%/12 -> 44233.074 | BZ38: =BZ37-BX38 -> 3327655.7
A39: =IF(Values_Entered,A38+1,"") -> 15 | B39: =B38+30 -> 45432 | C39: =IF(Pay_Num<>"",I38,"") -> 2947618.2 | D39: =IF(Pay_Num<>"",Scheduled_Monthly_Payment,"") -> 39635.364 | F39: =IF(AND(Pay_Num<>"",Sched_Pay+Extra_Pay<Beg_Bal),Sched_Pay+Extra_Pay,IF(Pay_Num<>"",Beg_Bal,"")) -> 39635.364 | G39: =IF(Pay_Num<>"",Total_Pay-Int,"") -> 18756.402 | H39: =IF(Pay_Num<>"",Beg_Bal*Interest_Rate/Num_Pmt_Per_Year,"") -> 20878.962 | I39: =IF(AND(Pay_Num<>"",Sched_Pay+Extra_Pay<Beg_Bal),Beg_Bal-Princ,IF(Pay_Num<>"",0,"")) -> 2928861.8 | J39: ='[4]B11-L8'!J46 -> PAID | BW39: 34058 | BX39: =BW39-BY39 -> -10310.742 | BY39: =BZ38*16%/12 -> 44368.742 | BZ39: =BZ38-BX39 -> 3337966.4
A40: =IF(Values_Entered,A39+1,"") -> 16 | B40: =B39+31 -> 45463 | C40: =IF(Pay_Num<>"",I39,"") -> 2928861.8 | D40: =IF(Pay_Num<>"",Scheduled_Monthly_Payment,"") -> 39635.364 | F40: =IF(AND(Pay_Num<>"",Sched_Pay+Extra_Pay<Beg_Bal),Sched_Pay+Extra_Pay,IF(Pay_Num<>"",Beg_Bal,"")) -> 39635.364 | G40: =IF(Pay_Num<>"",Total_Pay-Int,"") -> 18889.26 | H40: =IF(Pay_Num<>"",Beg_Bal*Interest_Rate/Num_Pmt_Per_Year,"") -> 20746.105 | I40: =IF(AND(Pay_Num<>"",Sched_Pay+Extra_Pay<Beg_Bal),Beg_Bal-Princ,IF(Pay_Num<>"",0,"")) -> 2909972.6 | J40: ='[4]B11-L8'!J47 -> PAID | BW40: 34058 | BX40: =BW40-BY40 -> -10448.219 | BY40: =BZ39*16%/12 -> 44506.219 | BZ40: =BZ39-BX40 -> 3348414.6
A41: =IF(Values_Entered,A40+1,"") -> 17 | B41: =B40+30 -> 45493 | C41: =IF(Pay_Num<>"",I40,"") -> 2909972.6 | D41: =IF(Pay_Num<>"",Scheduled_Monthly_Payment,"") -> 39635.364 | F41: =IF(AND(Pay_Num<>"",Sched_Pay+Extra_Pay<Beg_Bal),Sched_Pay+Extra_Pay,IF(Pay_Num<>"",Beg_Bal,"")) -> 39635.364 | G41: =IF(Pay_Num<>"",Total_Pay-Int,"") -> 19023.059 | H41: =IF(Pay_Num<>"",Beg_Bal*Interest_Rate/Num_Pmt_Per_Year,"") -> 20612.306 | I41: =IF(AND(Pay_Num<>"",Sched_Pay+Extra_Pay<Beg_Bal),Beg_Bal-Princ,IF(Pay_Num<>"",0,"")) -> 2890949.5 | J41: ='[4]B11-L8'!J48 -> PAID | BW41: 34058 | BX41: =BW41-BY41 -> -10587.528 | BY41: =BZ40*16%/12 -> 44645.528 | BZ41: =BZ40-BX41 -> 3359002.1
A42: =IF(Values_Entered,A41+1,"") -> 18 | B42: =B41+31 -> 45524 | C42: =IF(Pay_Num<>"",I41,"") -> 2890949.5 | D42: =IF(Pay_Num<>"",Scheduled_Monthly_Payment,"") -> 39635.364 | F42: =IF(AND(Pay_Num<>"",Sched_Pay+Extra_Pay<Beg_Bal),Sched_Pay+Extra_Pay,IF(Pay_Num<>"",Beg_Bal,"")) -> 39635.364 | G42: =IF(Pay_Num<>"",Total_Pay-Int,"") -> 19157.806 | H42: =IF(Pay_Num<>"",Beg_Bal*Interest_Rate/Num_Pmt_Per_Year,"") -> 20477.559 | I42: =IF(AND(Pay_Num<>"",Sched_Pay+Extra_Pay<Beg_Bal),Beg_Bal-Princ,IF(Pay_Num<>"",0,"")) -> 2871791.7 | J42: ='[4]B11-L8'!J49 -> PAID | BW42: 34058 | BX42: =BW42-BY42 -> -10728.695 | BY42: =BZ41*16%/12 -> 44786.695 | BZ42: =BZ41-BX42 -> 3369730.8
A43: =IF(Values_Entered,A42+1,"") -> 19 | B43: =B42+31 -> 45555 | C43: =IF(Pay_Num<>"",I42,"") -> 2871791.7 | D43: =IF(Pay_Num<>"",Scheduled_Monthly_Payment,"") -> 39635.364 | F43: =IF(AND(Pay_Num<>"",Sched_Pay+Extra_Pay<Beg_Bal),Sched_Pay+Extra_Pay,IF(Pay_Num<>"",Beg_Bal,"")) -> 39635.364 | G43: =IF(Pay_Num<>"",Total_Pay-Int,"") -> 19293.507 | H43: =IF(Pay_Num<>"",Beg_Bal*Interest_Rate/Num_Pmt_Per_Year,"") -> 20341.858 | I43: =IF(AND(Pay_Num<>"",Sched_Pay+Extra_Pay<Beg_Bal),Beg_Bal-Princ,IF(Pay_Num<>"",0,"")) -> 2852498.2 | J43: ='[4]B11-L8'!J50 -> PAID | BW43: 34058 | BX43: =BW43-BY43 -> -10871.745 | BY43: =BZ42*16%/12 -> 44929.745 | BZ43: =BZ42-BX43 -> 3380602.6
A44: =IF(Values_Entered,A43+1,"") -> 20 | B44: =B43+30 -> 45585 | C44: =IF(Pay_Num<>"",I43,"") -> 2852498.2 | D44: =IF(Pay_Num<>"",Scheduled_Monthly_Payment,"") -> 39635.364 | F44: =IF(AND(Pay_Num<>"",Sched_Pay+Extra_Pay<Beg_Bal),Sched_Pay+Extra_Pay,IF(Pay_Num<>"",Beg_Bal,"")) -> 39635.364 | G44: =IF(Pay_Num<>"",Total_Pay-Int,"") -> 19430.169 | H44: =IF(Pay_Num<>"",Beg_Bal*Interest_Rate/Num_Pmt_Per_Year,"") -> 20205.195 | I44: =IF(AND(Pay_Num<>"",Sched_Pay+Extra_Pay<Beg_Bal),Beg_Bal-Princ,IF(Pay_Num<>"",0,"")) -> 2833068 | J44: ='[4]B11-L8'!J51 -> PAID | BW44: 34058 | BX44: =BW44-BY44 -> -11016.701 | BY44: =BZ43*16%/12 -> 45074.701 | BZ44: =BZ43-BX44 -> 3391619.3
A45: =IF(Values_Entered,A44+1,"") -> 21 | B45: =B44+31 -> 45616 | C45: =IF(Pay_Num<>"",I44,"") -> 2833068 | D45: =IF(Pay_Num<>"",Scheduled_Monthly_Payment,"") -> 39635.364 | F45: =IF(AND(Pay_Num<>"",Sched_Pay+Extra_Pay<Beg_Bal),Sched_Pay+Extra_Pay,IF(Pay_Num<>"",Beg_Bal,"")) -> 39635.364 | G45: =IF(Pay_Num<>"",Total_Pay-Int,"") -> 19567.799 | H45: =IF(Pay_Num<>"",Beg_Bal*Interest_Rate/Num_Pmt_Per_Year,"") -> 20067.565 | I45: =IF(AND(Pay_Num<>"",Sched_Pay+Extra_Pay<Beg_Bal),Beg_Bal-Princ,IF(Pay_Num<>"",0,"")) -> 2813500.2 | J45: ='[4]B11-L8'!J52 -> PAID | BW45: 34058 | BX45: =BW45-BY45 -> -11163.591 | BY45: =BZ44*16%/12 -> 45221.591 | BZ45: =BZ44-BX45 -> 3402782.9
A46: =IF(Values_Entered,A45+1,"") -> 22 | B46: =B45+30 -> 45646 | C46: =IF(Pay_Num<>"",I45,"") -> 2813500.2 | D46: =IF(Pay_Num<>"",Scheduled_Monthly_Payment,"") -> 39635.364 | F46: =IF(AND(Pay_Num<>"",Sched_Pay+Extra_Pay<Beg_Bal),Sched_Pay+Extra_Pay,IF(Pay_Num<>"",Beg_Bal,"")) -> 39635.364 | G46: =IF(Pay_Num<>"",Total_Pay-Int,"") -> 19706.405 | H46: =IF(Pay_Num<>"",Beg_Bal*Interest_Rate/Num_Pmt_Per_Year,"") -> 19928.96 | I46: =IF(AND(Pay_Num<>"",Sched_Pay+Extra_Pay<Beg_Bal),Beg_Bal-Princ,IF(Pay_Num<>"",0,"")) -> 2793793.8 | J46: ='[4]B11-L8'!J53 -> PAID | BW46: 34058 | BX46: =BW46-BY46 -> -11312.438 | BY46: =BZ45*16%/12 -> 45370.438 | BZ46: =BZ45-BX46 -> 3414095.3
A47: =IF(Values_Entered,A46+1,"") -> 23 | B47: =B46+31 -> 45677 | C47: =IF(Pay_Num<>"",I46,"") -> 2793793.8 | D47: =IF(Pay_Num<>"",Scheduled_Monthly_Payment,"") -> 39635.364 | F47: =IF(AND(Pay_Num<>"",Sched_Pay+Extra_Pay<Beg_Bal),Sched_Pay+Extra_Pay,IF(Pay_Num<>"",Beg_Bal,"")) -> 39635.364 | G47: =IF(Pay_Num<>"",Total_Pay-Int,"") -> 19845.992 | H47: =IF(Pay_Num<>"",Beg_Bal*Interest_Rate/Num_Pmt_Per_Year,"") -> 19789.373 | I47: =IF(AND(Pay_Num<>"",Sched_Pay+Extra_Pay<Beg_Bal),Beg_Bal-Princ,IF(Pay_Num<>"",0,"")) -> 2773947.8 | J47: ='[4]B11-L8'!J54 -> PAID | BW47: 34058 | BX47: =BW47-BY47 -> -11463.271 | BY47: =BZ46*16%/12 -> 45521.271 | BZ47: =BZ46-BX47 -> 3425558.6
A48: =IF(Values_Entered,A47+1,"") -> 24 | B48: =B47+31 -> 45708 | C48: =IF(Pay_Num<>"",I47,"") -> 2773947.8 | D48: =IF(Pay_Num<>"",Scheduled_Monthly_Payment,"") -> 39635.364 | F48: =IF(AND(Pay_Num<>"",Sched_Pay+Extra_Pay<Beg_Bal),Sched_Pay+Extra_Pay,IF(Pay_Num<>"",Beg_Bal,"")) -> 39635.364 | G48: =IF(Pay_Num<>"",Total_Pay-Int,"") -> 19986.567 | H48: =IF(Pay_Num<>"",Beg_Bal*Interest_Rate/Num_Pmt_Per_Year,"") -> 19648.797 | I48: =IF(AND(Pay_Num<>"",Sched_Pay+Extra_Pay<Beg_Bal),Beg_Bal-Princ,IF(Pay_Num<>"",0,"")) -> 2753961.3 | J48: ='[4]B11-L8'!J55 -> PAID | BW48: 34058 | BX48: =BW48-BY48 -> -11616.115 | BY48: =BZ47*16%/12 -> 45674.115 | BZ48: =BZ47-BX48 -> 3437174.7
A49: =IF(Values_Entered,A48+1,"") -> 25 | B49: =B48+28 -> 45736 | C49: =IF(Pay_Num<>"",I48,"") -> 2753961.3 | D49: =IF(Pay_Num<>"",Scheduled_Monthly_Payment,"") -> 39635.364 | F49: =IF(AND(Pay_Num<>"",Sched_Pay+Extra_Pay<Beg_Bal),Sched_Pay+Extra_Pay,IF(Pay_Num<>"",Beg_Bal,"")) -> 39635.364 | G49: =IF(Pay_Num<>"",Total_Pay-Int,"") -> 20128.139 | H49: =IF(Pay_Num<>"",Beg_Bal*Interest_Rate/Num_Pmt_Per_Year,"") -> 19507.226 | I49: =IF(AND(Pay_Num<>"",Sched_Pay+Extra_Pay<Beg_Bal),Beg_Bal-Princ,IF(Pay_Num<>"",0,"")) -> 2733833.1 | J49: ='[4]B11-L8'!J56 -> PAID | BW49: 34058 | BX49: =BW49-BY49 -> -11770.996 | BY49: =BZ48*16%/12 -> 45828.996 | BZ49: =BZ48-BX49 -> 3448945.7
A50: =IF(Values_Entered,A49+1,"") -> 26 | B50: =B49+31 -> 45767 | C50: =IF(Pay_Num<>"",I49,"") -> 2733833.1 | D50: =IF(Pay_Num<>"",Scheduled_Monthly_Payment,"") -> 39635.364 | F50: =IF(AND(Pay_Num<>"",Sched_Pay+Extra_Pay<Beg_Bal),Sched_Pay+Extra_Pay,IF(Pay_Num<>"",Beg_Bal,"")) -> 39635.364 | G50: =IF(Pay_Num<>"",Total_Pay-Int,"") -> 20270.713 | H50: =IF(Pay_Num<>"",Beg_Bal*Interest_Rate/Num_Pmt_Per_Year,"") -> 19364.651 | I50: =IF(AND(Pay_Num<>"",Sched_Pay+Extra_Pay<Beg_Bal),Beg_Bal-Princ,IF(Pay_Num<>"",0,"")) -> 2713562.4 | J50: ='[4]B11-L8'!J57 -> PAID | BW50: 34058 | BX50: =BW50-BY50 -> -11927.943 | BY50: =BZ49*16%/12 -> 45985.943 | BZ50: =BZ49-BX50 -> 3460873.6
...

Sheet Corrected and Updated TSF 3
A1: The Southprime Flats | O1: 110000 | AE1: offer 12.5% | EY1: Term | EZ1: Interest Rate | FA1: Factor Rate | FB1: Ave. 90% Loanable | FC1: Interest for 9 months | GH1: ORIGINAL | GV1: SIMULATION
A2: Mandurriao, Iloilo | O2: 2000000 | AE2: 50 | AR2: VAT THRESHOLD | BU2: Top up Incentive | BV2: 75000 | CA2: VAT THRESHOLD | CG2: (Linked to Computation - pls update value if needed) | CT2: =CT17/CS17 -> 0.0077529894 | EY2: 10 | EZ2: 0.085 | FA2: =PMT(EZ2/12,EY2*12,-1) -> 0.012398569 | FB2: =EY391 -> 3196769.3 | FC2: ='Amort Computation'!CJ32 -> 199388.81 | FN2: AUG. 2023 | FV2: 10% Equity w/ 2.5% lumpsum
A3: Building 3 Pricelist (Ver.02) | I3: 0.125 | J3: Inner | K3: North | L3: 6th | M3: 10th | O3: HIDE | AE3: 31 | AL3: =SUBTOTAL(9,AL7:AL378) -> 2420450.4 | AM3: =SUBTOTAL(9,AM7:AM378) -> 1872543.9 | AR3: 3199200 | BU3: Doc Incentive | BV3: 10000 | CA3: 3600000 | CG3: VAT threshold | CJ3: 3199200 | CT3: =CT30/CS30 -> 0.0077529894 | DG3: OLD | FB3: 0.12 | FC3: =FC2*FB3 -> 23926.657
I4: 0.125 | J4: Lower Floors | K4: East | L4: 3rd | M4: 9th | O4: CTS BARE | P4: =P5*12% -> 2400 | R4: mark up for comm | AE4: =AE2-AE3 -> 19 | AR4: BOI THRESHOLD | BU4: Past Incentive | BV4: -33600 | CA4: BOI THRESHOLD | CT4: Interest Rate | CX4: IN HOUSE LOAN MONTHLY AMORT @80% TCP BALANCE | DG4: 46082 | DH4: Based on Construction | FB4: 0.08 | FC4: =FC2*FB4 -> 15951.105
K5: etc | N5: =SUM('[5]TSF 3 Price study with Additive'!L5) -> 106005.27 | O5: CTS BARE | P5: 20000 | Q5: 50000 | R5: 0 | S5: 8000 | T5: 3000 | U5: 1000 | V5: 2500 | W5: 1000 | X5: 200 | Y5: 20000 | Z5: ='[6]INTERNAL PRICELIST'!K7+'[6]INTERNAL PRICELIST'!L7 -> 142461 | AD5: ( = ) TOTAL ADDITIVES | AE5: 44848 | AF5: 0.025 | AH5: 0.025 | AJ5: 0.05 | AL5: 0.01 | AM5: 27537.41 | AO5: 44849 | AP5: 0.165 | AR5: 3000000 | AU5: 0.12 | AW5: OLD | AX5: 0.0125 | AY5: =RECOVERIES!G11 -> 234837.27 | BA5: 0.0375 | BC5: 30000 | BE5: =RECOVERIES!G29 -> 569402.76 | BG5: =RECOVERIES!G37 -> 14728 | BI5: =RECOVERIES!G43 -> 29456 | BM5: =RECOVERIES!G51 -> 42560 | BO5: =RECOVERIES!G75 -> 371742.99 | BQ5: 250231.76 | BS5: =RECOVERIES!G97 -> 169694.64 | BU5: =RECOVERIES!G105 -> 13720 | BX5: =RECOVERIES!G112+RECOVERIES!L110 -> 1880273.3 | CB5: 40000 | CD5: 0.12 | CI5: =7.5%+2.75% -> 0.1025 | CJ5: 0.025 | CL5: 0.125 | CN5: 30000 | CT5: 0.07 | CX5: 0.088848789 | CY5: 0.035157033 | CZ5: 0.025393427 | DA5: 0.019325567 | DG5: END OF CONSTRUCTION | DH5: 45231 | DJ5: SHOULD BE EQUITY IN PRICELIST | DK5: =DH5 -> 45231 | DR5: WITH ADDITIVES | DS5: NO DISCOUNT APPLICATION | EF5: CNC REMARKS | EU5: FROM SIR JESSON(Jan. 1-15,2022) | EY5: 0.9 | FB5: Total | FC5: =SUM(FC2:FC4) -> 239266.57 | FD5: CURRENT | FF5: UPDATED | FK5: 45108 | FL5: 45139 | FO5: 0.15 | FS5: 40 | FW5: 0.1 | FX5: 0.025 | GA5: =37+9 -> 46 | HA5: 48 | IF5: =DATE(2025,9,1) -> 45901
A6: Inventory Count | B6: SALE STATUS | C6: Inventory Count/Floor | D6: Physical Floor | E6: Level | F6: Tagging | G6: Unit | H6: Unit Letter | I6: Unit Type | J6: Area (sqm) | K6: Orientation | L6: View | M6: Classification | N6: Typical Selling Price/Sqm. | O6: Total Typical Selling Prie | P6: Smart Home | Q6: RECOVERY PROGRAM | R6: ( + ) LOFTED | S6: ( + ) NEAR AMENITIES | T6: ( + ) PREMIUM 8TH FLOOR | U6: ( + ) EAST VIEW | V6: ( + ) CORNER | W6: ( + ) END UNIT | X6: ( + ) FACING AMENITIES | Y6: ( + ) LEVEL ADDITIVES (@5th Floor) | Z6: LMF INCREASE | AA6: EXPOSURE RECOVERY | AB6: RENOVATION | AC6: REFUND | AE6: NEW SELLING PRICE | AF6: 1ST INCREASE | AG6: NEW SELLING PRICE | AH6: 2ND INCREASE | AI6: NEW SELLING PRICE | AJ6: 3RD INCREASE | AK6: NEW SELLING PRICE | AL6: INCREASE | AM6: RECOVERY AMOUNT | AN6: INTEREST | AO6: NEW SELLING PRICE | AP6: PRICE INCREASE_OCT. 1,2023 | AQ6: NEW SELLING PRICE | AR6: CTS BARE/DOAS | AS6: HIC/SQM | AT6: HIC | AU6: HIC VAT | AV6: ( = ) TOTAL HIC | AW6: NEW SELLING PRICE | AX6: Price Increase (July 2024) | AY6: INCIDENTAL RECOVERIES (OCT 2024) | AZ6: NEW SELLING PRICE | BA6: Price Increase (Oct 16, 2024) | BB6: INCIDENTAL RECOVERIES (OCT 16, 2024) | BC6: INCENTIVE RECOVERY (OCT 16, 2024) | BD6: NEW SELLING PRICE (Nov 2024) | BE6: INCIDENTAL RECOVERIES (DEC 2024) | BF6: NEW SELLING PRICE (DEC 2024) | BG6: INCIDENTAL RECOVERIES (JAN 2025) | BH6: NEW SELLING PRICE (JAN 2025) | BI6: INCIDENTAL RECOVERIES (FEB 2025) | BJ6: NEW SELLING PRICE (FEB 2025) | BK6: INCIDENTAL RECOVERIES (MAR 2025) | BL6: NEW SELLING PRICE (MAR 2025) | BM6: INCIDENTAL RECOVERIES (APR 2025) | BN6: NEW SELLING PRICE (APR 2025) | BO6: INCIDENTAL RECOVERIES (MAY 2025) | BP6: NEW SELLING PRICE (MAY 2025) | BQ6: INCIDENTAL RECOVERIES (JUNE 2025) | BR6: NEW SELLING PRICE (JUNE 2025) | BS6: INCIDENTAL RECOVERIES (JULY 2025) | BT6: NEW SELLING PRICE (JULY 2025) | BU6: INCIDENTAL RECOVERIES (August 2025) | BV6: Top-up Incentive + Documentrary Incentive - Past Cash Incentive | BW6: New Selling Price (Aug 2025) | BX6: INCIDENTAL RECOVERIES (SEP 2025) | BY6: NEW SELLING PRICE (SEP 2025) | BZ6: NEW SELLING PRICE | CA6: CTS BARE/DOAS | CB6: HIC/SQM | CC6: HIC | CD6: HIC VAT | CE6: ( = ) TOTAL HIC | CF6: NEW SELLING PRICE | CG6: New Selling Price | CH6: 12% VAT | CI6: LMF | CJ6: BF | CK6: Total Contract Price | CL6: Equity Rate | CM6: Equity | CN6: Reservation Fee | CO6: Net Equity | CP6: Equity Term (Months) | CQ6: Monthly Equity | CR6: Balance % | CS6: Loanable Amount | CT6: Monthly Amort. 20 years @ 7% fixed 3 yrs only | CU6: Monthly Amort. 15 years @ 7% fixed 3 yrs only | CV6: Monthly Amort. 10 years @ 7% fixed 3 yrs only | CW6: Monthly Amort. 5 years @ 7% fixed 3 yrs only | CX6: IN HOUSE MONTHLY AMORT 1YR. @12% | CY6: IN HOUSE MONTHLY AMORT 3YRS. @16% | CZ6: IN HOUSE MONTHLY AMORT 5YRS. @18% | DA6: IN HOUSE MONTHLY AMORT 10YRS. @20% | DB6: HIC% (old) | DC6: HIC% (new) | DD6: REMARKS (NEW) | DG6: TURN OVER DATE | DH6: REMAINING EQUITY | DJ6: ( + ) 2 MONTHS FOR PMD TURN OVER TO BUYER | DK6: MAXIMIZE EQUITY DP MONTHS | DL6: BOI STATUS | DM6: DOCS STATUS | DN6: HIC / SQM. (INCLUSIVE OF VAT) | DO6: TOTAL HIC AMOUNT | DP6: HIC PERCENTAGE | DR6: CURRENT PRICE STUDY | DS6: ORIGINAL NSP | DT6: VARIANCE | DV6: NSP/SQM (CURRENT SP) | DX6: FROM AREA TAB | ED6: NEW PLAN | EE6: VARIANCE | EF6: CLIENTS NAME | EG6: REMARKS | EI6: Step-Up Computation | EP6: SALES STATUS | EQ6: MASTERLIST | ER6: CHECKING | EU6: NSP | EV6: SALES STATUS | EY6: 90% of TCP | FD6: TERM | FE6: END EQUITY | FF6: TERM (w/ additional buffer) | FG6: END EQUITY | FH6: For the month of | FJ6: Equity % | FK6: @ 38 MONTHS TERM | FL6: @ 37 MONTHS TERM | FN6: Total Contract Price | FO6: Required Equity | FP6: Equity | FQ6: Reservation Fee | FR6: Net Equity | FS6: Equity Term (Months) | FT6: Monthly Equity | FV6: Total Contract Price | FW6: 10% Equity | FX6: 2.5% Lumpsum | FY6: Reservation Fee | FZ6: Net Equity | GA6: Equity Term (Months) | GB6: Monthly Equity | GH6: =CK6 -> Total Contract Price | GI6: =CL6 -> Equity Rate | GJ6: =CM6 -> Equity | GK6: =CN6 -> Reservation Fee | GL6: =CO6 -> Net Equity | GM6: =CP6 -> Equity Term (Months) | GN6: =CQ6 -> Monthly Equity | GO6: =CR6 -> Balance % | ... GT6: =CW6 -> Monthly Amort. 5 years @ 7% fixed 3 yrs only | GV6: =GH6 -> Total Contract Price | GW6: =GI6 -> Equity Rate | GX6: =GJ6 -> Equity | GY6: =GK6 -> Reservation Fee | GZ6: =GL6 -> Net Equity | HA6: =GM6 -> Equity Term (Months) | HB6: =GN6 -> Monthly Equity | HC6: =GO6 -> Balance % | ... HH6: =GT6 -> Monthly Amort. 5 years @ 7% fixed 3 yrs only | HJ6: VARIANCE ON MONTHLY EQUITY | ID6: Floor | IE6: Takeout / Client Move In | IF6: Equity Term
A7: 1 | C7: 1 | D7: 3rd Floor | E7: =D7 -> 3rd Floor | G7: W-3A | I7: Studio | J7: 22 | L7: North | M7: Corner | N7: =$N$5 -> 106005.27 | O7: =J7*N7 -> 2332115.8 | P7: =(P4+P5) -> 22400 | Q7: =$Q$5 -> 50000 | V7: =J7*$V$5 -> 55000 | Z7: =$Z$5 -> 142461 | AD7: =SUM(P7:AC7) -> 269861 | AE7: =O7+AD7 -> 2601976.8 | AF7: =AE7*$AF$5 -> 65049.421 | AG7: =AE7+AF7 -> 2667026.3 | AH7: =AG7*$AH$5 -> 66675.657 | AI7: =AG7+AH7 -> 2733701.9 | AJ7: =AJ5*AI$7 -> 136685.1 | AK7: =AI7+AJ7 -> 2870387 | AL7: =AK7*AL$5 -> 28703.87 | AM7: =$AM$5 -> 27537.41 | AO7: =AK7+AL7+AM7+AN7 -> 2926628.3 | AP7: =AO7*$AP$5 -> 482893.67 | AQ7: =AO7+AP7 -> 3409522 | AR7: =$AR$5 -> 3000000 | AS7: =AT7/J7 -> 18614.635 | AT7: =AQ7-AR7 -> 409521.97 | AU7: =AT7*$AU$5 -> 49142.636 | AV7: =AT7+AU7 -> 458664.6 | AW7: =AR7+AT7+AU7 -> 3458664.6 | AX7: =AW7*$AX$5 -> 43233.308 | AY7: 0 | AZ7: =AW7+AX7+AY7 -> 3501897.9 | BA7: =AZ7*$BA$5 -> 131321.17 | BC7: =$BC$5*1.12 -> 33600 | BD7: =AZ7+BA7+BB7+BC7 -> 3666819.1 | BF7: =BD7+BE7 -> 3666819.1 | BH7: =BF7+BG7 -> 3666819.1 | BJ7: =BH7+BI7 -> 3666819.1 | BL7: =BJ7+BK7 -> 3666819.1 | BN7: =BL7+BM7 -> 3666819.1 | BP7: =BN7+BO7 -> 3666819.1 | BR7: =BP7+BQ7 -> 3666819.1 | BT7: =BS7+BR7 -> 3666819.1 | BV7: =$BV$2+$BV$3-BC7 -> 51400 | BW7: =SUM(BT7:BV7) -> 3718219.1 | BY7: =BW7+BX7 -> 3718219.1 | BZ7: =BY7 -> 3718219.1 | CA7: =BZ7-CC7 -> 3036219.1 | CB7: 31000 | CC7: =CB7*J7 -> 682000 | CD7: =CC7*$CD$5 -> 81840 | CE7: =SUM(CC7:CD7) -> 763840 | CF7: =BZ7+CD7 -> 3800059.1 | CG7: =CF7 -> 3800059.1 | CH7: =IF(CA7<=$CA$3,0,12%*CA7) -> 0 | CI7: =CG7*CI$5 -> 389506.06 | CJ7: =CG7*CJ$5 -> 95001.477 | CK7: =SUM(CG7:CJ7) -> 4284566.6 | CL7: =$CL$5 -> 0.125 | CM7: =CK7*CL7 -> 535570.83 | CN7: =CN5 -> 30000 | CO7: =CM7-CN7 -> 505570.83 | CP7: =VLOOKUP(E7,$ID$6:$IF$20,3,FALSE) -> 29 | CQ7: =CO7/CP7 -> 17433.477 | CR7: =100%-CL7 -> 0.875 | CS7: =CK7*CR7 -> 3748995.8 | CT7: =-PMT($CT$5/12,240,CS7,0) -> 29065.924 | CU7: =-PMT($CT$5/12,180,CS7,0) -> 33697.034 | CV7: =-PMT($CT$5/12,120,CS7,0) -> 43529.02 | CW7: =-PMT($CT$5/12,60,CS7,0) -> 74234.61 | CX7: =(CK7*80%)*$CX$5 -> 304542.84 | CY7: =(CK7*80%)*$CY$5 -> 120506.12 | CZ7: =(CK7*80%)*$CZ$5 -> 87039.864 | DA7: =(CK7*80%)*$DA$5 -> 66241.343 | DB7: =AT7/AR7 -> 0.13650732 | DC7: =CE7/CA7 -> 0.25157605 | DD7: BOI W/ HIC | DG7: =$DG$4 -> 46082 | DH7: =(YEAR(DG7)-YEAR($DH$5))*12+MONTH(DG7)-MONTH($DH$5) -> 28 | DJ7: =DG7+65 -> 46147 | DK7: =(YEAR(DJ7)-YEAR($DK$5))*12+MONTH(DJ7)-MONTH($DK$5)+$DK$4+$DK$3 -> 30 | DL7: BOI | DM7: CTS BARE WITH HIC | DN7: =DO7/J7 -> 20848.391 | DO7: =AV7 -> 458664.6 | DP7: =AV7/AR7 -> 0.1528882 | DR7: =CG7 -> 3800059.1 | DS7: =SUM('[6]INTERNAL PRICELIST'!M7) -> 2329361 | DT7: =DR7-DS7 -> 1470698.1 | DV7: =DR7/J7 -> 172729.96 | DX7: 1 | DY7: UNIT A | DZ7: 22 | EA7: =DZ7-J7 -> 0 | ED7: W-3A | EE7: =G7=ED7 -> TRUE | EI7: Net Equity | EK7: =CO7 -> 505570.83 | EP7: SOLD | EQ7: SOLD | ER7: =EP7=EQ7 -> TRUE | EU7: 2172480 | EV7: SOLD | FD7: 36 | FE7: =EDATE($DK$5,FD7) -> 46327 | FF7: 40 | FG7: =EDATE(FH7,FF7) -> 46266 | FH7: 45047 | FJ7: 0.15 | FK7: 13378.682 | FL7: 13740.268 | FN7: =CK7 -> 4284566.6 | FO7: =$FO$5 -> 0.15 | FP7: =FN7*FO7 -> 642684.99 | FQ7: =CN7 -> 30000 | FR7: =FP7-FQ7 -> 612684.99 | FS7: =$FS$5 -> 40 | FT7: =FR7/FS7 -> 15317.125 | FV7: =FN7 -> 4284566.6 | FW7: =FV7*$FW$5 -> 428456.66 | FX7: =FV7*$FX$5 -> 107114.17 | FY7: 15000 | FZ7: =FW7-FY7 -> 413456.66 | GA7: =$GA$5 -> 46 | GB7: =FZ7/GA7 -> 8988.1883 | GH7: =CK7 -> 4284566.6 | GI7: =CL7 -> 0.125 | GJ7: =CM7 -> 535570.83 | GK7: =CN7 -> 30000 | GL7: =CO7 -> 505570.83 | GM7: =CP7 -> 29 | GN7: =CQ7 -> 17433.477 | GO7: =CR7 -> 0.875 | ... GT7: =CW7 -> 74234.61 | GV7: =GH7 -> 4284566.6 | GW7: =GI7 -> 0.125 | GX7: =GJ7 -> 535570.83 | GY7: =GK7 -> 30000 | GZ7: =GL7 -> 505570.83 | HA7: =$HA$5 -> 48 | HB7: =GZ7/HA7 -> 10532.726 | HC7: =100%-GW7 -> 0.875 | HD7: =GV7*HC7 -> 3748995.8 | HE7: =-PMT(7%/12,240,HD7,0) -> 29065.924 | HF7: =-PMT(7%/12,180,HD7,0) -> 33697.034 | HG7: =-PMT(7%/12,120,HD7,0) -> 43529.02 | HH7: =-PMT(7%/12,60,HD7,0) -> 74234.61 | HJ7: =HB7-GN7 -> -6900.7512
A8: =A7+1 -> 2 | C8: =C7+1 -> 2 | D8: 3rd Floor | E8: =D8 -> 3rd Floor | G8: W-3B | I8: Studio | J8: 22 | L8: North | M8: Inner | N8: =$N$5 -> 106005.27 | O8: =J8*N8 -> 2332115.8 | P8: =$P$7 -> 22400 | Q8: =$Q$5 -> 50000 | Z8: =$Z$5 -> 142461 | AD8: =SUM(P8:AC8) -> 214861 | AE8: =O8+AD8 -> 2546976.8 | AF8: =AE8*$AF$5 -> 63674.421 | AG8: =AE8+AF8 -> 2610651.3 | AH8: =AG8*$AH$5 -> 65266.282 | AI8: =AG8+AH8 -> 2675917.5 | AJ8: =AI8*$AJ$5 -> 133795.88 | AK8: =AI8+AJ8 -> 2809713.4 | AL8: =AK8*AL$5 -> 28097.134 | AM8: =$AM$5 -> 27537.41 | AO8: =AK8+AL8+AM8+AN8 -> 2865348 | AP8: =AO8*$AP$5 -> 472782.41 | AQ8: =AO8+AP8 -> 3338130.4 | AR8: =$AR$5 -> 3000000 | AS8: =AT8/J8 -> 15369.563 | AT8: =AQ8-AR8 -> 338130.38 | AU8: =AT8*$AU$5 -> 40575.646 | AV8: =AT8+AU8 -> 378706.03 | AW8: =AR8+AT8+AU8 -> 3378706 | AX8: =AW8*$AX$5 -> 42233.825 | AY8: 0 | AZ8: =AW8+AX8+AY8 -> 3420939.9 | BA8: =AZ8*$BA$5 -> 128285.24 | BC8: =$BC$5*1.12 -> 33600 | BD8: =AZ8+BA8+BB8+BC8 -> 3582825.1 | BF8: =BD8+BE8 -> 3582825.1 | BH8: =BF8+BG8 -> 3582825.1 | BJ8: =BH8+BI8 -> 3582825.1 | BL8: =BJ8+BK8 -> 3582825.1 | BN8: =BL8+BM8 -> 3582825.1 | BP8: =BN8+BO8 -> 3582825.1 | BR8: =BP8+BQ8 -> 3582825.1 | BT8: =BS8+BR8 -> 3582825.1 | BV8: =$BV$2+$BV$3-BC8 -> 51400 | BW8: =SUM(BT8:BV8) -> 3634225.1 | BY8: =BW8+BX8 -> 3634225.1 | BZ8: =BY8 -> 3634225.1 | CA8: =BZ8-CC8 -> 3040225.1 | CB8: 27000 | CC8: =CB8*J8 -> 594000 | CD8: =CC8*$CD$5 -> 71280 | CE8: =SUM(CC8:CD8) -> 665280 | CF8: =BZ8+CD8 -> 3705505.1 | CG8: =CF8 -> 3705505.1 | CH8: =IF(CA8<=$CA$3,0,12%*CA8) -> 0 | CI8: =CG8*CI$5 -> 379814.27 | CJ8: =CG8*CJ$5 -> 92637.628 | CK8: =SUM(CG8:CJ8) -> 4177957 | CL8: =$CL$5 -> 0.125 | CM8: =CK8*CL8 -> 522244.63 | CN8: =CN$5 -> 30000 | CO8: =CM8-CN8 -> 492244.63 | CP8: =VLOOKUP(E8,$ID$6:$IF$20,3,FALSE) -> 29 | CQ8: =CO8/CP8 -> 16973.953 | CR8: =100%-CL8 -> 0.875 | CS8: =CK8*CR8 -> 3655712.4 | CT8: =-PMT($CT$5/12,240,CS8,0) -> 28342.699 | CU8: =-PMT($CT$5/12,180,CS8,0) -> 32858.576 | CV8: =-PMT($CT$5/12,120,CS8,0) -> 42445.92 | CW8: =-PMT($CT$5/12,60,CS8,0) -> 72387.487 | CX8: =(CK8*80%)*$CX$5 -> 296965.14 | CY8: =(CK8*80%)*$CY$5 -> 117507.66 | CZ8: =(CK8*80%)*$CZ$5 -> 84874.117 | DA8: =(CK8*80%)*$DA$5 -> 64593.11 | DB8: =AT8/AR8 -> 0.11271013 | DC8: =CE8/CA8 -> 0.2188259 | DD8: BOI W/ HIC | DG8: =$DG$7 -> 46082 | DH8: =(YEAR(DG8)-YEAR($DH$5))*12+MONTH(DG8)-MONTH($DH$5) -> 28 | DJ8: =DG8+65 -> 46147 | DK8: =(YEAR(DJ8)-YEAR($DK$5))*12+MONTH(DJ8)-MONTH($DK$5)+$DK$4+$DK$3 -> 30 | DL8: BOI | DM8: CTS BARE WITH HIC | DN8: =DO8/J8 -> 17213.91 | DO8: =AV8 -> 378706.03 | DP8: =AV8/AR8 -> 0.12623534 | DR8: =CG8 -> 3705505.1 | DS8: =SUM('[6]INTERNAL PRICELIST'!M8) -> 2329361 | DT8: =DR8-DS8 -> 1376144.1 | DV8: =DR8/J8 -> 168432.05 | DX8: 2 | DY8: UNIT B | DZ8: 22 | EA8: =DZ8-J8 -> 0 | ED8: W-3B | EE8: =G8=ED8 -> TRUE | EJ8: Months Covered | EK8: Months | EL8: % | EM8: Total | EN8: Monthly | EP8: SOLD | EQ8: SOLD | ER8: =EP8=EQ8 -> TRUE | EU8: 2172480 | EV8: SOLD | EY8: 2949755.5 | FF8: 39 | FG8: =EDATE(FH8,FF8) -> 46266 | FH8: 45078 | FJ8: 0.15 | FK8: 12820.111 | FL8: 13166.6 | FN8: =CK8 -> 4177957 | FO8: =$FO$5 -> 0.15 | FP8: =FN8*FO8 -> 626693.55 | FQ8: =CN8 -> 30000 | FR8: =FP8-FQ8 -> 596693.55 | FS8: =$FS$5 -> 40 | FT8: =FR8/FS8 -> 14917.339 | FV8: =FN8 -> 4177957 | FW8: =FV8*$FW$5 -> 417795.7 | FX8: =FV8*$FX$5 -> 104448.93 | FY8: 15000 | FZ8: =FW8-FY8 -> 402795.7 | GA8: =$GA$5 -> 46 | GB8: =FZ8/GA8 -> 8756.4283 | GH8: =CK8 -> 4177957 | GI8: =CL8 -> 0.125 | GJ8: =CM8 -> 522244.63 | GK8: =CN8 -> 30000 | GL8: =CO8 -> 492244.63 | GM8: =CP8 -> 29 | GN8: =CQ8 -> 16973.953 | GO8: =CR8 -> 0.875 | ... GT8: =CW8 -> 72387.487 | GV8: =GH8 -> 4177957 | GW8: =GI8 -> 0.125 | GX8: =GJ8 -> 522244.63 | GY8: =GK8 -> 30000 | GZ8: =GL8 -> 492244.63 | HA8: =$HA$5 -> 48 | HB8: =GZ8/HA8 -> 10255.096 | HC8: =100%-GW8 -> 0.875 | HD8: =GV8*HC8 -> 3655712.4 | HE8: =-PMT(7%/12,240,HD8,0) -> 28342.699 | HF8: =-PMT(7%/12,180,HD8,0) -> 32858.576 | HG8: =-PMT(7%/12,120,HD8,0) -> 42445.92 | HH8: =-PMT(7%/12,60,HD8,0) -> 72387.487 | HJ8: =HB8-GN8 -> -6718.8562 | ID8: 2nd Floor | IE8: =DATE(2028,2,1) -> 46784 | IF8: =DATEDIF($IF$5,IE8,"m") -> 29
A9: =A8+1 -> 3 | B9: SOLD | C9: =C8+1 -> 3 | D9: 3rd Floor | E9: =D9 -> 3rd Floor | G9: W-3C | I9: Studio | J9: 22 | L9: North | M9: Inner | N9: =$N$5 -> 106005.27 | O9: =J9*N9 -> 2332115.8 | P9: =$P$7 -> 22400 | Q9: =$Q$5 -> 50000 | Z9: =$Z$5 -> 142461 | AD9: =SUM(P9:AC9) -> 214861 | AE9: =O9+AD9 -> 2546976.8 | AF9: =AE9*$AF$5 -> 63674.421 | AG9: =AE9+AF9 -> 2610651.3 | AH9: =AG9*$AH$5 -> 65266.282 | AI9: =AG9+AH9 -> 2675917.5 | AJ9: =AI9*$AJ$5 -> 133795.88 | AK9: =AI9+AJ9 -> 2809713.4 | AL9: =AK9*AL$5 -> 28097.134 | AM9: =$AM$5 -> 27537.41 | AO9: =AK9+AL9+AM9+AN9 -> 2865348 | AP9: =AO9*$AP$5 -> 472782.41 | AQ9: =AO9+AP9 -> 3338130.4 | AR9: =$AR$5 -> 3000000 | AS9: =AT9/J9 -> 15369.563 | AT9: =AQ9-AR9 -> 338130.38 | AU9: =AT9*$AU$5 -> 40575.646 | AV9: =AT9+AU9 -> 378706.03 | AW9: =AR9+AT9+AU9 -> 3378706 | AX9: =AW9*$AX$5 -> 42233.825 | AY9: 0 | AZ9: =AW9+AX9+AY9 -> 3420939.9 | BA9: =AZ9*$BA$5 -> 128285.24 | BC9: =$BC$5*1.12 -> 33600 | BD9: =AZ9+BA9+BB9+BC9 -> 3582825.1 | BF9: =BD9+BE9 -> 3582825.1 | BH9: =BF9+BG9 -> 3582825.1 | BJ9: =BH9+BI9 -> 3582825.1 | BL9: =BJ9+BK9 -> 3582825.1 | BN9: =BL9+BM9 -> 3582825.1 | BP9: =BN9+BO9 -> 3582825.1 | BR9: =BP9+BQ9 -> 3582825.1 | BT9: =BS9+BR9 -> 3582825.1 | BV9: =$BV$2+$BV$3-BC9 -> 51400 | BW9: =SUM(BT9:BV9) -> 3634225.1 | BY9: =BW9+BX9 -> 3634225.1 | BZ9: =BY9 -> 3634225.1 | CA9: =BZ9-CC9 -> 3040225.1 | CB9: 27000 | CC9: =CB9*J9 -> 594000 | CD9: =CC9*$CD$5 -> 71280 | CE9: =SUM(CC9:CD9) -> 665280 | CF9: =BZ9+CD9 -> 3705505.1 | CG9: =CF9 -> 3705505.1 | CH9: =IF(CA9<=$CA$3,0,12%*CA9) -> 0 | CI9: =CG9*CI$5 -> 379814.27 | CJ9: =CG9*CJ$5 -> 92637.628 | CK9: =SUM(CG9:CJ9) -> 4177957 | CL9: =$CL$5 -> 0.125 | CM9: =CK9*CL9 -> 522244.63 | CN9: =CN$5 -> 30000 | CO9: =CM9-CN9 -> 492244.63 | CP9: =VLOOKUP(E9,$ID$6:$IF$20,3,FALSE) -> 29 | CQ9: =CO9/CP9 -> 16973.953 | CR9: =100%-CL9 -> 0.875 | CS9: =CK9*CR9 -> 3655712.4 | CT9: =-PMT($CT$5/12,240,CS9,0) -> 28342.699 | CU9: =-PMT($CT$5/12,180,CS9,0) -> 32858.576 | CV9: =-PMT($CT$5/12,120,CS9,0) -> 42445.92 | CW9: =-PMT($CT$5/12,60,CS9,0) -> 72387.487 | CX9: =(CK9*80%)*$CX$5 -> 296965.14 | CY9: =(CK9*80%)*$CY$5 -> 117507.66 | CZ9: =(CK9*80%)*$CZ$5 -> 84874.117 | DA9: =(CK9*80%)*$DA$5 -> 64593.11 | DB9: =AT9/AR9 -> 0.11271013 | DC9: =CE9/CA9 -> 0.2188259 | DD9: BOI W/ HIC | DG9: =$DG$7 -> 46082 | DH9: =(YEAR(DG9)-YEAR($DH$5))*12+MONTH(DG9)-MONTH($DH$5) -> 28 | DJ9: =DG9+65 -> 46147 | DK9: =(YEAR(DJ9)-YEAR($DK$5))*12+MONTH(DJ9)-MONTH($DK$5)+$DK$4+$DK$3 -> 30 | DL9: BOI | DM9: CTS BARE WITH HIC | DN9: =DO9/J9 -> 17213.91 | DO9: =AV9 -> 378706.03 | DP9: =AV9/AR9 -> 0.12623534 | DR9: =CG9 -> 3705505.1 | DS9: =SUM('[6]INTERNAL PRICELIST'!M9) -> 2329361 | DT9: =DR9-DS9 -> 1376144.1 | DV9: =DR9/J9 -> 168432.05 | DX9: 3 | DY9: UNIT C | DZ9: 22 | EA9: =DZ9-J9 -> 0 | ED9: W-3C | EE9: =G9=ED9 -> TRUE | EF9: NICO BERENACER DOSANO | EG9: FROM UG TO 3F | EI9: Step Up 1 | EL9: 0.25 | EM9: =EK7*EL9 -> 126392.71 | EN9: =EM9/EK9 -> #DIV/0! | EP9: SOLD | EQ9: SOLD | ER9: =EP9=EQ9 -> TRUE | EU9: 2123200 | EV9: SOLD | FF9: 40 | FG9: =EDATE(FH9,FF9) -> 46357 | FH9: 45139 | FJ9: 0.15 | FK9: 12820.111 | FL9: 13166.6 | FN9: =CK9 -> 4177957 | FO9: =$FO$5 -> 0.15 | FP9: =FN9*FO9 -> 626693.55 | FQ9: =CN9 -> 30000 | FR9: =FP9-FQ9 -> 596693.55 | FS9: =$FS$5 -> 40 | FT9: =FR9/FS9 -> 14917.339 | FV9: =FN9 -> 4177957 | FW9: =FV9*$FW$5 -> 417795.7 | FX9: =FV9*$FX$5 -> 104448.93 | FY9: 15000 | FZ9: =FW9-FY9 -> 402795.7 | GA9: =$GA$5 -> 46 | GB9: =FZ9/GA9 -> 8756.4283 | GH9: =CK9 -> 4177957 | GI9: =CL9 -> 0.125 | GJ9: =CM9 -> 522244.63 | GK9: =CN9 -> 30000 | GL9: =CO9 -> 492244.63 | GM9: =CP9 -> 29 | GN9: =CQ9 -> 16973.953 | GO9: =CR9 -> 0.875 | ... GT9: =CW9 -> 72387.487 | GV9: =GH9 -> 4177957 | GW9: =GI9 -> 0.125 | GX9: =GJ9 -> 522244.63 | GY9: =GK9 -> 30000 | GZ9: =GL9 -> 492244.63 | HA9: =$HA$5 -> 48 | HB9: =GZ9/HA9 -> 10255.096 | HC9: =100%-GW9 -> 0.875 | HD9: =GV9*HC9 -> 3655712.4 | HE9: =-PMT(7%/12,240,HD9,0) -> 28342.699 | HF9: =-PMT(7%/12,180,HD9,0) -> 32858.576 | HG9: =-PMT(7%/12,120,HD9,0) -> 42445.92 | HH9: =-PMT(7%/12,60,HD9,0) -> 72387.487 | HJ9: =HB9-GN9 -> -6718.8562 | ID9: 3rd Floor | IE9: =DATE(2028,2,1) -> 46784 | IF9: =DATEDIF($IF$5,IE9,"m") -> 29
A10: =A9+1 -> 4 | B10: SOLD | C10: =C9+1 -> 4 | D10: 3rd Floor | E10: =D10 -> 3rd Floor | G10: W-3D | I10: Studio | J10: 22 | L10: North | M10: Inner | N10: =$N$5 -> 106005.27 | O10: =J10*N10 -> 2332115.8 | P10: =$P$7 -> 22400 | Q10: =$Q$5 -> 50000 | Z10: =$Z$5 -> 142461 | AD10: =SUM(P10:AC10) -> 214861 | AE10: =O10+AD10 -> 2546976.8 | AF10: =AE10*$AF$5 -> 63674.421 | AG10: =AE10+AF10 -> 2610651.3 | AH10: =AG10*$AH$5 -> 65266.282 | AI10: =AG10+AH10 -> 2675917.5 | AJ10: =AI10*$AJ$5 -> 133795.88 | AK10: =AI10+AJ10 -> 2809713.4 | AL10: =AK10*AL$5 -> 28097.134 | AM10: =$AM$5 -> 27537.41 | AO10: =AK10+AL10+AM10+AN10 -> 2865348 | AP10: =AO10*$AP$5 -> 472782.41 | AQ10: =AO10+AP10 -> 3338130.4 | AR10: =$AR$5 -> 3000000 | AS10: =AT10/J10 -> 15369.563 | AT10: =AQ10-AR10 -> 338130.38 | AU10: =AT10*$AU$5 -> 40575.646 | AV10: =AT10+AU10 -> 378706.03 | AW10: =AR10+AT10+AU10 -> 3378706 | AX10: =AW10*$AX$5 -> 42233.825 | AY10: 0 | AZ10: =AW10+AX10+AY10 -> 3420939.9 | BA10: =AZ10*$BA$5 -> 128285.24 | BC10: =$BC$5*1.12 -> 33600 | BD10: =AZ10+BA10+BB10+BC10 -> 3582825.1 | BF10: =BD10+BE10 -> 3582825.1 | BH10: =BF10+BG10 -> 3582825.1 | BJ10: =BH10+BI10 -> 3582825.1 | BL10: =BJ10+BK10 -> 3582825.1 | BN10: =BL10+BM10 -> 3582825.1 | BP10: =BN10+BO10 -> 3582825.1 | BR10: =BP10+BQ10 -> 3582825.1 | BT10: =BS10+BR10 -> 3582825.1 | BV10: =$BV$2+$BV$3-BC10 -> 51400 | BW10: =SUM(BT10:BV10) -> 3634225.1 | BY10: =BW10+BX10 -> 3634225.1 | BZ10: =BY10 -> 3634225.1 | CA10: =BZ10-CC10 -> 3040225.1 | CB10: 27000 | CC10: =CB10*J10 -> 594000 | CD10: =CC10*$CD$5 -> 71280 | CE10: =SUM(CC10:CD10) -> 665280 | CF10: =BZ10+CD10 -> 3705505.1 | CG10: =CF10 -> 3705505.1 | CH10: =IF(CA10<=$CA$3,0,12%*CA10) -> 0 | CI10: =CG10*CI$5 -> 379814.27 | CJ10: =CG10*CJ$5 -> 92637.628 | CK10: =SUM(CG10:CJ10) -> 4177957 | CL10: =$CL$5 -> 0.125 | CM10: =CK10*CL10 -> 522244.63 | CN10: =CN$5 -> 30000 | CO10: =CM10-CN10 -> 492244.63 | CP10: =VLOOKUP(E10,$ID$6:$IF$20,3,FALSE) -> 29 | CQ10: =CO10/CP10 -> 16973.953 | CR10: =100%-CL10 -> 0.875 | CS10: =CK10*CR10 -> 3655712.4 | CT10: =-PMT($CT$5/12,240,CS10,0) -> 28342.699 | CU10: =-PMT($CT$5/12,180,CS10,0) -> 32858.576 | CV10: =-PMT($CT$5/12,120,CS10,0) -> 42445.92 | CW10: =-PMT($CT$5/12,60,CS10,0) -> 72387.487 | CX10: =(CK10*80%)*$CX$5 -> 296965.14 | CY10: =(CK10*80%)*$CY$5 -> 117507.66 | CZ10: =(CK10*80%)*$CZ$5 -> 84874.117 | DA10: =(CK10*80%)*$DA$5 -> 64593.11 | DB10: =AT10/AR10 -> 0.11271013 | DC10: =CE10/CA10 -> 0.2188259 | DD10: BOI W/ HIC | DG10: =$DG$7 -> 46082 | DH10: =(YEAR(DG10)-YEAR($DH$5))*12+MONTH(DG10)-MONTH($DH$5) -> 28 | DJ10: =DG10+65 -> 46147 | DK10: =(YEAR(DJ10)-YEAR($DK$5))*12+MONTH(DJ10)-MONTH($DK$5)+$DK$4+$DK$3 -> 30 | DL10: BOI | DM10: CTS BARE WITH HIC | DN10: =DO10/J10 -> 17213.91 | DO10: =AV10 -> 378706.03 | DP10: =AV10/AR10 -> 0.12623534 | DR10: =CG10 -> 3705505.1 | DS10: =SUM('[6]INTERNAL PRICELIST'!M10) -> 2329361 | DT10: =DR10-DS10 -> 1376144.1 | DV10: =DR10/J10 -> 168432.05 | DX10: 4 | DY10: UNIT D | DZ10: 22 | EA10: =DZ10-J10 -> 0 | ED10: W-3D | EE10: =G10=ED10 -> TRUE | EF10: MARYCELLE GOMEZ CONSTANTINO | EG10: FROM UG TO 3F | EI10: Step Up 2 | EL10: 0.35 | EM10: =EK7*EL10 -> 176949.79 | EN10: =EM10/EK10 -> #DIV/0! | EP10: SOLD | EQ10: SOLD | ER10: =EP10=EQ10 -> TRUE | EU10: 2757027.6 | EV10: SOLD | FF10: 39 | FG10: =EDATE(FH10,FF10) -> 46357 | FH10: 45170 | FJ10: 0.15 | FK10: 12820.111 | FL10: 13166.6 | FN10: =CK10 -> 4177957 | FO10: =$FO$5 -> 0.15 | FP10: =FN10*FO10 -> 626693.55 | FQ10: =CN10 -> 30000 | FR10: =FP10-FQ10 -> 596693.55 | FS10: =$FS$5 -> 40 | FT10: =FR10/FS10 -> 14917.339 | FV10: =FN10 -> 4177957 | FW10: =FV10*$FW$5 -> 417795.7 | FX10: =FV10*$FX$5 -> 104448.93 | FY10: 15000 | FZ10: =FW10-FY10 -> 402795.7 | GA10: =$GA$5 -> 46 | GB10: =FZ10/GA10 -> 8756.4283 | GH10: =CK10 -> 4177957 | GI10: =CL10 -> 0.125 | GJ10: =CM10 -> 522244.63 | GK10: =CN10 -> 30000 | GL10: =CO10 -> 492244.63 | GM10: =CP10 -> 29 | GN10: =CQ10 -> 16973.953 | GO10: =CR10 -> 0.875 | ... GT10: =CW10 -> 72387.487 | GV10: =GH10 -> 4177957 | GW10: =GI10 -> 0.125 | GX10: =GJ10 -> 522244.63 | GY10: =GK10 -> 30000 | GZ10: =GL10 -> 492244.63 | HA10: =$HA$5 -> 48 | HB10: =GZ10/HA10 -> 10255.096 | HC10: =100%-GW10 -> 0.875 | HD10: =GV10*HC10 -> 3655712.4 | HE10: =-PMT(7%/12,240,HD10,0) -> 28342.699 | HF10: =-PMT(7%/12,180,HD10,0) -> 32858.576 | HG10: =-PMT(7%/12,120,HD10,0) -> 42445.92 | HH10: =-PMT(7%/12,60,HD10,0) -> 72387.487 | HJ10: =HB10-GN10 -> -6718.8562 | ID10: 4th Floor | IE10: =DATE(2028,2,1) -> 46784 | IF10: =DATEDIF($IF$5,IE10,"m") -> 29
A11: =A10+1 -> 5 | B11: SOLD | C11: =C10+1 -> 5 | D11: 3rd Floor | E11: =D11 -> 3rd Floor | G11: W-3E | I11: Studio | J11: 22 | L11: North | M11: Inner | N11: =$N$5 -> 106005.27 | O11: =J11*N11 -> 2332115.8 | P11: =$P$7 -> 22400 | Q11: =$Q$5 -> 50000 | Z11: =$Z$5 -> 142461 | AD11: =SUM(P11:AC11) -> 214861 | AE11: =O11+AD11 -> 2546976.8 | AF11: =AE11*$AF$5 -> 63674.421 | AG11: =AE11+AF11 -> 2610651.3 | AH11: =AG11*$AH$5 -> 65266.282 | AI11: =AG11+AH11 -> 2675917.5 | AJ11: =AI11*$AJ$5 -> 133795.88 | AK11: =AI11+AJ11 -> 2809713.4 | AL11: =AK11*AL$5 -> 28097.134 | AM11: =$AM$5 -> 27537.41 | AO11: =AK11+AL11+AM11+AN11 -> 2865348 | AP11: =AO11*$AP$5 -> 472782.41 | AQ11: =AO11+AP11 -> 3338130.4 | AR11: =$AR$5 -> 3000000 | AS11: =AT11/J11 -> 15369.563 | AT11: =AQ11-AR11 -> 338130.38 | AU11: =AT11*$AU$5 -> 40575.646 | AV11: =AT11+AU11 -> 378706.03 | AW11: =AR11+AT11+AU11 -> 3378706 | AX11: =AW11*$AX$5 -> 42233.825 | AY11: 0 | AZ11: =AW11+AX11+AY11 -> 3420939.9 | BA11: =AZ11*$BA$5 -> 128285.24 | BC11: =$BC$5*1.12 -> 33600 | BD11: =AZ11+BA11+BB11+BC11 -> 3582825.1 | BF11: =BD11+BE11 -> 3582825.1 | BH11: =BF11+BG11 -> 3582825.1 | BJ11: =BH11+BI11 -> 3582825.1 | BL11: =BJ11+BK11 -> 3582825.1 | BN11: =BL11+BM11 -> 3582825.1 | BP11: =BN11+BO11 -> 3582825.1 | BR11: =BP11+BQ11 -> 3582825.1 | BT11: =BS11+BR11 -> 3582825.1 | BV11: =$BV$2+$BV$3-BC11 -> 51400 | BW11: =SUM(BT11:BV11) -> 3634225.1 | BY11: =BW11+BX11 -> 3634225.1 | BZ11: =BY11 -> 3634225.1 | CA11: =BZ11-CC11 -> 3040225.1 | CB11: 27000 | CC11: =CB11*J11 -> 594000 | CD11: =CC11*$CD$5 -> 71280 | CE11: =SUM(CC11:CD11) -> 665280 | CF11: =BZ11+CD11 -> 3705505.1 | CG11: =CF11 -> 3705505.1 | CH11: =IF(CA11<=$CA$3,0,12%*CA11) -> 0 | CI11: =CG11*CI$5 -> 379814.27 | CJ11: =CG11*CJ$5 -> 92637.628 | CK11: =SUM(CG11:CJ11) -> 4177957 | CL11: =$CL$5 -> 0.125 | CM11: =CK11*CL11 -> 522244.63 | CN11: =CN$5 -> 30000 | CO11: =CM11-CN11 -> 492244.63 | CP11: =VLOOKUP(E11,$ID$6:$IF$20,3,FALSE) -> 29 | CQ11: =CO11/CP11 -> 16973.953 | CR11: =100%-CL11 -> 0.875 | CS11: =CK11*CR11 -> 3655712.4 | CT11: =-PMT($CT$5/12,240,CS11,0) -> 28342.699 | CU11: =-PMT($CT$5/12,180,CS11,0) -> 32858.576 | CV11: =-PMT($CT$5/12,120,CS11,0) -> 42445.92 | CW11: =-PMT($CT$5/12,60,CS11,0) -> 72387.487 | CX11: =(CK11*80%)*$CX$5 -> 296965.14 | CY11: =(CK11*80%)*$CY$5 -> 117507.66 | CZ11: =(CK11*80%)*$CZ$5 -> 84874.117 | DA11: =(CK11*80%)*$DA$5 -> 64593.11 | DB11: =AT11/AR11 -> 0.11271013 | DC11: =CE11/CA11 -> 0.2188259 | DD11: BOI W/ HIC | DG11: =$DG$7 -> 46082 | DH11: =(YEAR(DG11)-YEAR($DH$5))*12+MONTH(DG11)-MONTH($DH$5) -> 28 | DJ11: =DG11+65 -> 46147 | DK11: =(YEAR(DJ11)-YEAR($DK$5))*12+MONTH(DJ11)-MONTH($DK$5)+$DK$4+$DK$3 -> 30 | DL11: BOI | DM11: CTS BARE WITH HIC | DN11: =DO11/J11 -> 17213.91 | DO11: =AV11 -> 378706.03 | DP11: =AV11/AR11 -> 0.12623534 | DR11: =CG11 -> 3705505.1 | DS11: =SUM('[6]INTERNAL PRICELIST'!M11) -> 2329361 | DT11: =DR11-DS11 -> 1376144.1 | DV11: =DR11/J11 -> 168432.05 | DX11: 5 | DY11: UNIT E | DZ11: 22 | EA11: =DZ11-J11 -> 0 | ED11: W-3E | EE11: =G11=ED11 -> TRUE | EF11: JANELLE GOMEZ CONSTANTINO | EG11: FROM UG TO 3F | EI11: Step Up 3 | EL11: 0.4 | EM11: =EK7*EL11 -> 202228.33 | EN11: =EM11/EK11 -> #DIV/0! | EP11: SOLD | EQ11: SOLD | ER11: =EP11=EQ11 -> TRUE | EU11: 2981804.7 | EV11: UNSOLD | EW11: =EU11-CG11 -> -723700.37 | FF11: =FF10-1+12 -> 50 | FG11: =EDATE(FH11,FF11) -> 46722 | FH11: 45200 | FI11: term from Sept 2023 less 1 plus 12 months | FJ11: 0.15 | FK11: 12820.111 | FL11: 13166.6 | FN11: =CK11 -> 4177957 | FO11: =$FO$5 -> 0.15 | FP11: =FN11*FO11 -> 626693.55 | FQ11: =CN11 -> 30000 | FR11: =FP11-FQ11 -> 596693.55 | FS11: =$FS$5 -> 40 | FT11: =FR11/FS11 -> 14917.339 | FV11: =FN11 -> 4177957 | FW11: =FV11*$FW$5 -> 417795.7 | FX11: =FV11*$FX$5 -> 104448.93 | FY11: 15000 | FZ11: =FW11-FY11 -> 402795.7 | GA11: =$GA$5 -> 46 | GB11: =FZ11/GA11 -> 8756.4283 | GH11: =CK11 -> 4177957 | GI11: =CL11 -> 0.125 | GJ11: =CM11 -> 522244.63 | GK11: =CN11 -> 30000 | GL11: =CO11 -> 492244.63 | GM11: =CP11 -> 29 | GN11: =CQ11 -> 16973.953 | GO11: =CR11 -> 0.875 | ... GT11: =CW11 -> 72387.487 | GV11: =GH11 -> 4177957 | GW11: =GI11 -> 0.125 | GX11: =GJ11 -> 522244.63 | GY11: =GK11 -> 30000 | GZ11: =GL11 -> 492244.63 | HA11: =$HA$5 -> 48 | HB11: =GZ11/HA11 -> 10255.096 | HC11: =100%-GW11 -> 0.875 | HD11: =GV11*HC11 -> 3655712.4 | HE11: =-PMT(7%/12,240,HD11,0) -> 28342.699 | HF11: =-PMT(7%/12,180,HD11,0) -> 32858.576 | HG11: =-PMT(7%/12,120,HD11,0) -> 42445.92 | HH11: =-PMT(7%/12,60,HD11,0) -> 72387.487 | HJ11: =HB11-GN11 -> -6718.8562 | ID11: 5th Floor | IE11: =DATE(2028,2,1) -> 46784 | IF11: =DATEDIF($IF$5,IE11,"m") -> 29
A12: =A11+1 -> 6 | B12: SOLD | C12: =C11+1 -> 6 | D12: 3rd Floor | E12: =D12 -> 3rd Floor | G12: W-3F | I12: Studio | J12: 22 | L12: North | M12: Inner | N12: =$N$5 -> 106005.27 | O12: =J12*N12 -> 2332115.8 | P12: =$P$7 -> 22400 | Q12: =$Q$5 -> 50000 | Z12: =$Z$5 -> 142461 | AD12: =SUM(P12:AC12) -> 214861 | AE12: =O12+AD12 -> 2546976.8 | AF12: =AE12*$AF$5 -> 63674.421 | AG12: =AE12+AF12 -> 2610651.3 | AH12: =AG12*$AH$5 -> 65266.282 | AI12: =AG12+AH12 -> 2675917.5 | AJ12: =AI12*$AJ$5 -> 133795.88 | AK12: =AI12+AJ12 -> 2809713.4 | AL12: =AK12*AL$5 -> 28097.134 | AM12: =$AM$5 -> 27537.41 | AO12: =AK12+AL12+AM12+AN12 -> 2865348 | AP12: =AO12*$AP$5 -> 472782.41 | AQ12: =AO12+AP12 -> 3338130.4 | AR12: =$AR$5 -> 3000000 | AS12: =AT12/J12 -> 15369.563 | AT12: =AQ12-AR12 -> 338130.38 | AU12: =AT12*$AU$5 -> 40575.646 | AV12: =AT12+AU12 -> 378706.03 | AW12: =AR12+AT12+AU12 -> 3378706 | AX12: =AW12*$AX$5 -> 42233.825 | AY12: 0 | AZ12: =AW12+AX12+AY12 -> 3420939.9 | BA12: =AZ12*$BA$5 -> 128285.24 | BC12: =$BC$5*1.12 -> 33600 | BD12: =AZ12+BA12+BB12+BC12 -> 3582825.1 | BF12: =BD12+BE12 -> 3582825.1 | BH12: =BF12+BG12 -> 3582825.1 | BJ12: =BH12+BI12 -> 3582825.1 | BL12: =BJ12+BK12 -> 3582825.1 | BN12: =BL12+BM12 -> 3582825.1 | BP12: =BN12+BO12 -> 3582825.1 | BR12: =BP12+BQ12 -> 3582825.1 | BT12: =BS12+BR12 -> 3582825.1 | BV12: =$BV$2+$BV$3-BC12 -> 51400 | BW12: =SUM(BT12:BV12) -> 3634225.1 | BY12: =BW12+BX12 -> 3634225.1 | BZ12: =BY12 -> 3634225.1 | CA12: =BZ12-CC12 -> 3040225.1 | CB12: 27000 | CC12: =CB12*J12 -> 594000 | CD12: =CC12*$CD$5 -> 71280 | CE12: =SUM(CC12:CD12) -> 665280 | CF12: =BZ12+CD12 -> 3705505.1 | CG12: =CF12 -> 3705505.1 | CH12: =IF(CA12<=$CA$3,0,12%*CA12) -> 0 | CI12: =CG12*CI$5 -> 379814.27 | CJ12: =CG12*CJ$5 -> 92637.628 | CK12: =SUM(CG12:CJ12) -> 4177957 | CL12: =$CL$5 -> 0.125 | CM12: =CK12*CL12 -> 522244.63 | CN12: =CN$5 -> 30000 | CO12: =CM12-CN12 -> 492244.63 | CP12: =VLOOKUP(E12,$ID$6:$IF$20,3,FALSE) -> 29 | CQ12: =CO12/CP12 -> 16973.953 | CR12: =100%-CL12 -> 0.875 | CS12: =CK12*CR12 -> 3655712.4 | CT12: =-PMT($CT$5/12,240,CS12,0) -> 28342.699 | CU12: =-PMT($CT$5/12,180,CS12,0) -> 32858.576 | CV12: =-PMT($CT$5/12,120,CS12,0) -> 42445.92 | CW12: =-PMT($CT$5/12,60,CS12,0) -> 72387.487 | CX12: =(CK12*80%)*$CX$5 -> 296965.14 | CY12: =(CK12*80%)*$CY$5 -> 117507.66 | CZ12: =(CK12*80%)*$CZ$5 -> 84874.117 | DA12: =(CK12*80%)*$DA$5 -> 64593.11 | DB12: =AT12/AR12 -> 0.11271013 | DC12: =CE12/CA12 -> 0.2188259 | DD12: BOI W/ HIC | DG12: =$DG$7 -> 46082 | DH12: =(YEAR(DG12)-YEAR($DH$5))*12+MONTH(DG12)-MONTH($DH$5) -> 28 | DJ12: =DG12+65 -> 46147 | DK12: =(YEAR(DJ12)-YEAR($DK$5))*12+MONTH(DJ12)-MONTH($DK$5)+$DK$4+$DK$3 -> 30 | DL12: BOI | DM12: CTS BARE WITH HIC | DN12: =DO12/J12 -> 17213.91 | DO12: =AV12 -> 378706.03 | DP12: =AV12/AR12 -> 0.12623534 | DR12: =CG12 -> 3705505.1 | DS12: =SUM('[6]INTERNAL PRICELIST'!M12) -> 2329361 | DT12: =DR12-DS12 -> 1376144.1 | DV12: =DR12/J12 -> 168432.05 | DX12: 6 | DY12: UNIT F | DZ12: 22 | EA12: =DZ12-J12 -> 0 | ED12: W-3F | EE12: =G12=ED12 -> TRUE | EF12: ABBY GAYLE GACUMA LACHICA | EG12: FROM UG TO 3F | EI12: Total | EK12: =SUM(EK9:EK11) -> 0 | EL12: =SUM(EL9:EL11) -> 1 | EM12: =SUM(EM9:EM11) -> 505570.83 | EP12: SOLD | EQ12: SOLD | ER12: =EP12=EQ12 -> TRUE | EU12: 2123200 | EV12: SOLD | FF12: =FF11-1 -> 49 | FG12: =EDATE(FH12,FF12) -> 46722 | FH12: 45231 | FI12: Nov. 1-14,2023 | FJ12: 0.15 | FK12: 12820.111 | FL12: 13166.6 | FN12: =CK12 -> 4177957 | FO12: =$FO$5 -> 0.15 | FP12: =FN12*FO12 -> 626693.55 | FQ12: =CN12 -> 30000 | FR12: =FP12-FQ12 -> 596693.55 | FS12: =$FS$5 -> 40 | FT12: =FR12/FS12 -> 14917.339 | FV12: =FN12 -> 4177957 | FW12: =FV12*$FW$5 -> 417795.7 | FX12: =FV12*$FX$5 -> 104448.93 | FY12: 15000 | FZ12: =FW12-FY12 -> 402795.7 | GA12: =$GA$5 -> 46 | GB12: =FZ12/GA12 -> 8756.4283 | GH12: =CK12 -> 4177957 | GI12: =CL12 -> 0.125 | GJ12: =CM12 -> 522244.63 | GK12: =CN12 -> 30000 | GL12: =CO12 -> 492244.63 | GM12: =CP12 -> 29 | GN12: =CQ12 -> 16973.953 | GO12: =CR12 -> 0.875 | ... GT12: =CW12 -> 72387.487 | GV12: =GH12 -> 4177957 | GW12: =GI12 -> 0.125 | GX12: =GJ12 -> 522244.63 | GY12: =GK12 -> 30000 | GZ12: =GL12 -> 492244.63 | HA12: =$HA$5 -> 48 | HB12: =GZ12/HA12 -> 10255.096 | HC12: =100%-GW12 -> 0.875 | HD12: =GV12*HC12 -> 3655712.4 | HE12: =-PMT(7%/12,240,HD12,0) -> 28342.699 | HF12: =-PMT(7%/12,180,HD12,0) -> 32858.576 | HG12: =-PMT(7%/12,120,HD12,0) -> 42445.92 | HH12: =-PMT(7%/12,60,HD12,0) -> 72387.487 | HJ12: =HB12-GN12 -> -6718.8562 | ID12: 6th Floor | IE12: =DATE(2028,2,1) -> 46784 | IF12: =DATEDIF($IF$5,IE12,"m") -> 29
